BEGIN:VCALENDAR
VERSION:2.0
PRODID:-//Made in Kuwait Gate | منصة صنع في الكويت - ECPv6.9.0//NONSGML v1.0//EN
CALSCALE:GREGORIAN
METHOD:PUBLISH
X-WR-CALNAME:Made in Kuwait Gate | منصة صنع في الكويت
X-ORIGINAL-URL:https://madeinkuwaitgate.com
X-WR-CALDESC:Events for Made in Kuwait Gate | منصة صنع في الكويت
REFRESH-INTERVAL;VALUE=DURATION:PT1H
X-Robots-Tag:noindex
X-PUBLISHED-TTL:PT1H
BEGIN:VTIMEZONE
TZID:UTC
BEGIN:STANDARD
TZOFFSETFROM:+0000
TZOFFSETTO:+0000
TZNAME:UTC
DTSTART:20240101T000000
END:STANDARD
END:VTIMEZONE
BEGIN:VEVENT
DTSTART;TZID=UTC:20241204T090000
DTEND;TZID=UTC:20241205T180000
DTSTAMP:20260420T144606
CREATED:20240122T111133Z
LAST-MODIFIED:20241107T113719Z
UID:1029-1733302800-1733421600@madeinkuwaitgate.com
SUMMARY:Kuwait HR Summit 2024
DESCRIPTION:Holiday Inn Kuwait Salmiya\, an IHG Hotel\nGulf Road\, 140 Hamad Al-Mubarak St\, Salmiya 22003\, Kuwait\nKuwait \nKuwait HR Summit connects industry leaders and HR experts to share best practices for enhancing employee experiences in flexible work environments\, focusing on effective strategies and management processes. \n\nHighlights\n\nPopular among visitors for\n\n 
URL:https://madeinkuwaitgate.com/event/saudi-international-marine-exhibition-2024/
CATEGORIES:hr
ATTACH;FMTTYPE=image/jpeg:https://madeinkuwaitgate.com/wp-content/uploads/2024/01/download-2-1.jpg
END:VEVENT
END:VCALENDAR