BEGIN:VCALENDAR
VERSION:2.0
PRODID:-//Made in Kuwait Gate | منصة صنع في الكويت - ECPv6.9.0//NONSGML v1.0//EN
CALSCALE:GREGORIAN
METHOD:PUBLISH
X-WR-CALNAME:Made in Kuwait Gate | منصة صنع في الكويت
X-ORIGINAL-URL:https://madeinkuwaitgate.com
X-WR-CALDESC:Events for Made in Kuwait Gate | منصة صنع في الكويت
REFRESH-INTERVAL;VALUE=DURATION:PT1H
X-Robots-Tag:noindex
X-PUBLISHED-TTL:PT1H
BEGIN:VTIMEZONE
TZID:UTC
BEGIN:STANDARD
TZOFFSETFROM:+0000
TZOFFSETTO:+0000
TZNAME:UTC
DTSTART:20240101T000000
END:STANDARD
END:VTIMEZONE
BEGIN:VEVENT
DTSTART;TZID=UTC:20241215T100000
DTEND;TZID=UTC:20241216T130000
DTSTAMP:20260420T144729
CREATED:20240121T130228Z
LAST-MODIFIED:20241107T114156Z
UID:920-1734256800-1734354000@madeinkuwaitgate.com
SUMMARY:Kuwait International Agro Food Expo 2024
DESCRIPTION:Kuwait International Fairground\n\nHall 8\n\n1 St Mubarak Al-Abdullah Kuwait\nKuwait City\, Kuwait \n  \n“International Food\, Foodstuffs and Beverages Trade Show”\nKuwait International Agro Food Expo (KIAFE) is the only specialized international exhibition for the Agriculture & Food Sector in the country. The exhibition focuses on agriculture\, halal food products\, processing & packaging technology\, hospitality & catering\, hotel & restaurant furniture\, food security\, and food safety. KIAFE is an ideal opportunity for exhibitors to appoint agents\, distributors\, and export to the Kuwaiti and regional market. \n\nHighlights\n\nPopular among visitors for\n\n\n\n\n\nTimings\n10:00 AM – 1:00 PM (Business)\n5:00 PM – 9:00 PM (Business)\n\n\nEntry Fees\nCheck Official Website\n\n\n\nEstimated Turnout\n20\,000 – 50\,000  \nVisitors\n50 ExhibitorsBased on previous editions\n\nEvent Type\nTrade Show\n\n\n\n\nOrganizer \nDeem for Event Management
URL:https://madeinkuwaitgate.com/event/real-estate-future-forum-2024/
CATEGORIES:Agro Food
ATTACH;FMTTYPE=image/jpeg:https://madeinkuwaitgate.com/wp-content/uploads/2024/01/download-3-1.jpg
END:VEVENT
END:VCALENDAR